BEGIN:VCALENDAR
VERSION:2.0
PRODID:-//Agence BB® Switzerland - ECPv6.2.8.1//NONSGML v1.0//EN
CALSCALE:GREGORIAN
METHOD:PUBLISH
X-ORIGINAL-URL:https://staging.agence-bb.ch
X-WR-CALDESC:évènements pour Agence BB® Switzerland
REFRESH-INTERVAL;VALUE=DURATION:PT1H
X-Robots-Tag:noindex
X-PUBLISHED-TTL:PT1H
BEGIN:VTIMEZONE
TZID:Europe/Paris
BEGIN:DAYLIGHT
TZOFFSETFROM:+0100
TZOFFSETTO:+0200
TZNAME:CEST
DTSTART:20230326T010000
END:DAYLIGHT
BEGIN:STANDARD
TZOFFSETFROM:+0200
TZOFFSETTO:+0100
TZNAME:CET
DTSTART:20231029T010000
END:STANDARD
END:VTIMEZONE
BEGIN:VEVENT
DTSTART;TZID=Europe/Paris:20231129T130000
DTEND;TZID=Europe/Paris:20231129T160000
DTSTAMP:20260422T015910
CREATED:20231101T071008Z
LAST-MODIFIED:20231101T151600Z
UID:10000001-1701262800-1701273600@staging.agence-bb.ch
SUMMARY:Développer sa page professionnelle sur LinkedIn
DESCRIPTION:
URL:https://staging.agence-bb.ch/formation/developper-sa-page-professionnelle-sur-linkedin/
END:VEVENT
END:VCALENDAR