BEGIN:VCALENDAR
VERSION:2.0
PRODID:-//Agence BB® Switzerland - ECPv6.2.8.1//NONSGML v1.0//EN
CALSCALE:GREGORIAN
METHOD:PUBLISH
X-ORIGINAL-URL:https://staging.agence-bb.ch
X-WR-CALDESC:évènements pour Agence BB® Switzerland
REFRESH-INTERVAL;VALUE=DURATION:PT1H
X-Robots-Tag:noindex
X-PUBLISHED-TTL:PT1H
BEGIN:VTIMEZONE
TZID:Europe/Paris
BEGIN:DAYLIGHT
TZOFFSETFROM:+0100
TZOFFSETTO:+0200
TZNAME:CEST
DTSTART:20240331T010000
END:DAYLIGHT
BEGIN:STANDARD
TZOFFSETFROM:+0200
TZOFFSETTO:+0100
TZNAME:CET
DTSTART:20241027T010000
END:STANDARD
END:VTIMEZONE
BEGIN:VEVENT
DTSTART;TZID=Europe/Paris:20240118T173000
DTEND;TZID=Europe/Paris:20240208T193000
DTSTAMP:20260421T231228
CREATED:20231101T165234Z
LAST-MODIFIED:20231101T165234Z
UID:10000005-1705599000-1707420600@staging.agence-bb.ch
SUMMARY:Maîtriser les fondamentaux de Meta Business Manager en 4 soirs
DESCRIPTION:
URL:https://staging.agence-bb.ch/formation/maitriser-les-fondamentaux-de-meta-business-manager-en-4-soirs/
END:VEVENT
END:VCALENDAR